BEGIN:VCALENDAR
VERSION:2.0
PRODID:-//Le Goût Sauvage - ECPv6.5.0.1//NONSGML v1.0//EN
CALSCALE:GREGORIAN
METHOD:PUBLISH
X-ORIGINAL-URL:https://le-gout-sauvage.fr
X-WR-CALDESC:évènements pour Le Goût Sauvage
REFRESH-INTERVAL;VALUE=DURATION:PT1H
X-Robots-Tag:noindex
X-PUBLISHED-TTL:PT1H
BEGIN:VTIMEZONE
TZID:Europe/Paris
BEGIN:DAYLIGHT
TZOFFSETFROM:+0100
TZOFFSETTO:+0200
TZNAME:CEST
DTSTART:20260329T010000
END:DAYLIGHT
BEGIN:STANDARD
TZOFFSETFROM:+0200
TZOFFSETTO:+0100
TZNAME:CET
DTSTART:20261025T010000
END:STANDARD
END:VTIMEZONE
BEGIN:VEVENT
DTSTART;TZID=Europe/Paris:20260514T000000
DTEND;TZID=Europe/Paris:20260514T235959
DTSTAMP:20260425T121744
CREATED:20260310T161848Z
LAST-MODIFIED:20260310T161956Z
UID:1225-1778716800-1778803199@le-gout-sauvage.fr
SUMMARY:Fête de Beltaine en Brocéliande / Château de comper
DESCRIPTION:  \n 
URL:https://le-gout-sauvage.fr/evenement/fete-de-beltaine-en-broceliande-chateau-de-comper-2
LOCATION:Château de Comper\, Chateau Comper\, Concoret\, 56430
END:VEVENT
BEGIN:VEVENT
DTSTART;TZID=Europe/Paris:20260514T193000
DTEND;TZID=Europe/Paris:20260517T143000
DTSTAMP:20260425T121744
CREATED:20260310T185716Z
LAST-MODIFIED:20260310T185716Z
UID:1229-1778787000-1779028200@le-gout-sauvage.fr
SUMMARY:Prestation cuisine végétarienne et sauvage pour un groupe privée
DESCRIPTION:
URL:https://le-gout-sauvage.fr/evenement/prestation-cuisine-vegetarienne-et-sauvage-pour-un-groupe-privee
LOCATION:Gite la Hulotte\, 8 La ville Moisan\, Saint-Malon-sur-Mel\, 35750\, France
END:VEVENT
BEGIN:VEVENT
DTSTART;TZID=Europe/Paris:20260608T080000
DTEND;TZID=Europe/Paris:20260612T170000
DTSTAMP:20260425T121744
CREATED:20260310T161707Z
LAST-MODIFIED:20260310T161707Z
UID:1223-1780905600-1781283600@le-gout-sauvage.fr
SUMMARY:Prestation repas "cuisine sauvage"
DESCRIPTION:Prestation pour des repas "cuisine sauvage" pour un stage d'herboristerie
URL:https://le-gout-sauvage.fr/evenement/prestation-repas-cuisine-sauvage
END:VEVENT
END:VCALENDAR